BEGIN:VCALENDAR
VERSION:2.0
PRODID:-//Marblehead Historical Commission - ECPv6.2.9//NONSGML v1.0//EN
CALSCALE:GREGORIAN
METHOD:PUBLISH
X-ORIGINAL-URL:https://marbleheadhistory.org
X-WR-CALDESC:Events for Marblehead Historical Commission
REFRESH-INTERVAL;VALUE=DURATION:PT1H
X-Robots-Tag:noindex
X-PUBLISHED-TTL:PT1H
BEGIN:VTIMEZONE
TZID:UTC
BEGIN:STANDARD
TZOFFSETFROM:+0000
TZOFFSETTO:+0000
TZNAME:UTC
DTSTART:20220101T000000
END:STANDARD
END:VTIMEZONE
BEGIN:VEVENT
DTSTART;VALUE=DATE:20221008
DTEND;VALUE=DATE:20221009
DTSTAMP:20260419T215241
CREATED:20190218T150943Z
LAST-MODIFIED:20220128T171923Z
UID:2069-1665187200-1665273599@marbleheadhistory.org
SUMMARY:1923: USS Marblehead commissioned
DESCRIPTION:U.S.S. Marblehead (CL-12) commissioned by the smashing of a champagne bottle on its bow by Hannah Martin Evans\, a World War I “Gold Star” mother\, Marblehead’s first. The first U.S.S. Marblehead was a Spanish-American War-era ship (C-11). The most recent ship was launched into the Deleware River in Philadelphis.
URL:https://marbleheadhistory.org/event/1923-uss-marblehead-commissioned/
CATEGORIES:Historic Event
END:VEVENT
BEGIN:VEVENT
DTSTART;VALUE=DATE:20221008
DTEND;VALUE=DATE:20221009
DTSTAMP:20260419T215241
CREATED:20190218T150945Z
LAST-MODIFIED:20220128T171909Z
UID:2076-1665187200-1665273599@marbleheadhistory.org
SUMMARY:1964: Marblehead Reporter begins
DESCRIPTION:The Marblehead Reporter publishes its first edition.
URL:https://marbleheadhistory.org/event/1964-marblehead-reporter-begins/
CATEGORIES:Historic Event
END:VEVENT
END:VCALENDAR