BEGIN:VCALENDAR
VERSION:2.0
PRODID:-//Marblehead Historical Commission - ECPv6.2.9//NONSGML v1.0//EN
CALSCALE:GREGORIAN
METHOD:PUBLISH
X-WR-CALNAME:Marblehead Historical Commission
X-ORIGINAL-URL:https://marbleheadhistory.org
X-WR-CALDESC:Events for Marblehead Historical Commission
REFRESH-INTERVAL;VALUE=DURATION:PT1H
X-Robots-Tag:noindex
X-PUBLISHED-TTL:PT1H
BEGIN:VTIMEZONE
TZID:UTC
BEGIN:STANDARD
TZOFFSETFROM:+0000
TZOFFSETTO:+0000
TZNAME:UTC
DTSTART:20220101T000000
END:STANDARD
END:VTIMEZONE
BEGIN:VEVENT
DTSTART;VALUE=DATE:20220916
DTEND;VALUE=DATE:20220917
DTSTAMP:20260419T195419
CREATED:20190218T150931Z
LAST-MODIFIED:20220128T171952Z
UID:2024-1663286400-1663372799@marbleheadhistory.org
SUMMARY:1684: Deed of sale signed
DESCRIPTION:A deed of sale was marked and signed by the rightful heirs of Nanepashemet
URL:https://marbleheadhistory.org/event/1684-deed-of-sale-signed/
CATEGORIES:Historic Event
END:VEVENT
END:VCALENDAR