BEGIN:VCALENDAR
VERSION:2.0
PRODID:-//Marblehead Historical Commission - ECPv6.2.9//NONSGML v1.0//EN
CALSCALE:GREGORIAN
METHOD:PUBLISH
X-WR-CALNAME:Marblehead Historical Commission
X-ORIGINAL-URL:https://marbleheadhistory.org
X-WR-CALDESC:Events for Marblehead Historical Commission
REFRESH-INTERVAL;VALUE=DURATION:PT1H
X-Robots-Tag:noindex
X-PUBLISHED-TTL:PT1H
BEGIN:VTIMEZONE
TZID:UTC
BEGIN:STANDARD
TZOFFSETFROM:+0000
TZOFFSETTO:+0000
TZNAME:UTC
DTSTART:20220101T000000
END:STANDARD
END:VTIMEZONE
BEGIN:VEVENT
DTSTART;VALUE=DATE:20220905
DTEND;VALUE=DATE:20220906
DTSTAMP:20260419T195419
CREATED:20190218T150934Z
LAST-MODIFIED:20220128T172041Z
UID:2037-1662336000-1662422399@marbleheadhistory.org
SUMMARY:1775: The Hannah sails as first American Naval vessel
DESCRIPTION:The Hannah sails as the first American Naval vessel under the ownership of John Glover and with Nicholson Broughton as Captain\, crewed by Marbleheaders.
URL:https://marbleheadhistory.org/event/1775-the-hannah-sails-as-first-american-naval-vessel/
CATEGORIES:Historic Event
END:VEVENT
BEGIN:VEVENT
DTSTART;VALUE=DATE:20220905
DTEND;VALUE=DATE:20220906
DTSTAMP:20260419T195419
CREATED:20190218T150947Z
LAST-MODIFIED:20220128T172026Z
UID:2080-1662336000-1662422399@marbleheadhistory.org
SUMMARY:1994: Penni's Supermarket burns
DESCRIPTION:In the early morning hours\, Penni’s Supermarket catches fire and burns to the ground in the biggest Marblehead fire in years. Before it was over\, seven alarms had been struck and sixteen communities had rushed their firefighting equipment to help.
URL:https://marbleheadhistory.org/event/1994-pennis-supermarket-burns/
CATEGORIES:Historic Event
END:VEVENT
END:VCALENDAR