BEGIN:VCALENDAR
VERSION:2.0
PRODID:-//Marblehead Historical Commission - ECPv6.2.9//NONSGML v1.0//EN
CALSCALE:GREGORIAN
METHOD:PUBLISH
X-ORIGINAL-URL:https://marbleheadhistory.org
X-WR-CALDESC:Events for Marblehead Historical Commission
REFRESH-INTERVAL;VALUE=DURATION:PT1H
X-Robots-Tag:noindex
X-PUBLISHED-TTL:PT1H
BEGIN:VTIMEZONE
TZID:UTC
BEGIN:STANDARD
TZOFFSETFROM:+0000
TZOFFSETTO:+0000
TZNAME:UTC
DTSTART:20220101T000000
END:STANDARD
END:VTIMEZONE
BEGIN:VEVENT
DTSTART;VALUE=DATE:20220829
DTEND;VALUE=DATE:20220830
DTSTAMP:20260419T181425
CREATED:20190218T150936Z
LAST-MODIFIED:20220128T172216Z
UID:2042-1661731200-1661817599@marbleheadhistory.org
SUMMARY:1776: Glover's Regiment evacuates Washington's army
DESCRIPTION:10:00 p.m. Glover Regiment begins the evacuation of Washington’s army from Long Island and saves the army in less than 10 hours of skillful rowing and sailing in arduous conditions\, avoiding being cut off by a stunned British force of 10 frigates and 20 gunboats and ships of war. Had the evacuation failed\, Washington’s Army\, Glover’s Regiment and the American Revolution might easily have been lost\, according to historians.
URL:https://marbleheadhistory.org/event/1776-glovers-regiment-evacuates-washingtons-army/
CATEGORIES:Historic Event
END:VEVENT
END:VCALENDAR