BEGIN:VCALENDAR
VERSION:2.0
PRODID:-//Marblehead Historical Commission - ECPv6.2.9//NONSGML v1.0//EN
CALSCALE:GREGORIAN
METHOD:PUBLISH
X-ORIGINAL-URL:https://marbleheadhistory.org
X-WR-CALDESC:Events for Marblehead Historical Commission
REFRESH-INTERVAL;VALUE=DURATION:PT1H
X-Robots-Tag:noindex
X-PUBLISHED-TTL:PT1H
BEGIN:VTIMEZONE
TZID:UTC
BEGIN:STANDARD
TZOFFSETFROM:+0000
TZOFFSETTO:+0000
TZNAME:UTC
DTSTART:20220101T000000
END:STANDARD
END:VTIMEZONE
BEGIN:VEVENT
DTSTART;VALUE=DATE:20220729
DTEND;VALUE=DATE:20220730
DTSTAMP:20260419T163545
CREATED:20190218T150944Z
LAST-MODIFIED:20220128T172313Z
UID:2072-1659052800-1659139199@marbleheadhistory.org
SUMMARY:1931: USS Constitution visits Marblehead
DESCRIPTION:USS Constitution visits Marblehead on an unscheduled stop in a national tour. Gloucester agreed to “relinquish” Consitution for two days in honor of the Town’s 1814 protection of the ship from British marauders\, Tenedos and Endymion.
URL:https://marbleheadhistory.org/event/1931-uss-constitution-visits-marblehead/
CATEGORIES:Historic Event
END:VEVENT
END:VCALENDAR