BEGIN:VCALENDAR
VERSION:2.0
PRODID:-//Marblehead Historical Commission - ECPv6.2.9//NONSGML v1.0//EN
CALSCALE:GREGORIAN
METHOD:PUBLISH
X-ORIGINAL-URL:https://marbleheadhistory.org
X-WR-CALDESC:Events for Marblehead Historical Commission
REFRESH-INTERVAL;VALUE=DURATION:PT1H
X-Robots-Tag:noindex
X-PUBLISHED-TTL:PT1H
BEGIN:VTIMEZONE
TZID:UTC
BEGIN:STANDARD
TZOFFSETFROM:+0000
TZOFFSETTO:+0000
TZNAME:UTC
DTSTART:20220101T000000
END:STANDARD
END:VTIMEZONE
BEGIN:VEVENT
DTSTART;VALUE=DATE:20220720
DTEND;VALUE=DATE:20220721
DTSTAMP:20260419T163607
CREATED:20190218T150936Z
LAST-MODIFIED:20220128T172419Z
UID:2041-1658275200-1658361599@marbleheadhistory.org
SUMMARY:1776: Glover's Regiment marches to New York
DESCRIPTION:Reordered and renamed the 14th Continental Regiment\, Glover’s Regiment is ordered to march to New York to join General Sullivan’s Brigade.
URL:https://marbleheadhistory.org/event/1776-glovers-regiment-marches-to-new-york/
CATEGORIES:Historic Event
END:VEVENT
BEGIN:VEVENT
DTSTART;VALUE=DATE:20220720
DTEND;VALUE=DATE:20220721
DTSTAMP:20260419T163607
CREATED:20190218T150942Z
LAST-MODIFIED:20220128T172403Z
UID:2066-1658275200-1658361599@marbleheadhistory.org
SUMMARY:1918: Charles Evans first WWI casualty
DESCRIPTION:Second Lieutenant Charles Herbert Evans\, born in 1887\, was the first Marblehead man to be killed in World War I. He died at the battle of Chateau Thierry in France. By September\, the registration list showed that a total of 1\,346 Marblehead men from the ages of 18 to 45 were in uniform and one Marblehead woman\, Edna Jane “Dolly Dal” Dalrymple.
URL:https://marbleheadhistory.org/event/1918-charles-evans-first-wwi-casualty/
CATEGORIES:Historic Event
END:VEVENT
BEGIN:VEVENT
DTSTART;VALUE=DATE:20220720
DTEND;VALUE=DATE:20220721
DTSTAMP:20260419T163607
CREATED:20190218T150947Z
LAST-MODIFIED:20220128T172343Z
UID:2081-1658275200-1658361599@marbleheadhistory.org
SUMMARY:1997: USS Constitution visits Marblehead
DESCRIPTION:USS Constitution visits Marblehead as the world watches.
URL:https://marbleheadhistory.org/event/1997-uss-constitution-visits-marblehead/
CATEGORIES:Historic Event
END:VEVENT
END:VCALENDAR