BEGIN:VCALENDAR
VERSION:2.0
PRODID:-//Marblehead Historical Commission - ECPv6.2.9//NONSGML v1.0//EN
CALSCALE:GREGORIAN
METHOD:PUBLISH
X-WR-CALNAME:Marblehead Historical Commission
X-ORIGINAL-URL:https://marbleheadhistory.org
X-WR-CALDESC:Events for Marblehead Historical Commission
REFRESH-INTERVAL;VALUE=DURATION:PT1H
X-Robots-Tag:noindex
X-PUBLISHED-TTL:PT1H
BEGIN:VTIMEZONE
TZID:UTC
BEGIN:STANDARD
TZOFFSETFROM:+0000
TZOFFSETTO:+0000
TZNAME:UTC
DTSTART:20220101T000000
END:STANDARD
END:VTIMEZONE
BEGIN:VEVENT
DTSTART;VALUE=DATE:20220616
DTEND;VALUE=DATE:20220617
DTSTAMP:20260419T145925
CREATED:20190218T150934Z
LAST-MODIFIED:20220128T172551Z
UID:2035-1655337600-1655423999@marbleheadhistory.org
SUMMARY:1775: Battle of Bunker Hill
DESCRIPTION:Captain Samuel Russell Trevett\, leads the Marblehead Company at the Battle of Bunker Hill.
URL:https://marbleheadhistory.org/event/1775-battle-of-bunker-hill/
CATEGORIES:Historic Event
END:VEVENT
END:VCALENDAR