BEGIN:VCALENDAR
VERSION:2.0
PRODID:-//Marblehead Historical Commission - ECPv6.2.9//NONSGML v1.0//EN
CALSCALE:GREGORIAN
METHOD:PUBLISH
X-ORIGINAL-URL:https://marbleheadhistory.org
X-WR-CALDESC:Events for Marblehead Historical Commission
REFRESH-INTERVAL;VALUE=DURATION:PT1H
X-Robots-Tag:noindex
X-PUBLISHED-TTL:PT1H
BEGIN:VTIMEZONE
TZID:UTC
BEGIN:STANDARD
TZOFFSETFROM:+0000
TZOFFSETTO:+0000
TZNAME:UTC
DTSTART:20220101T000000
END:STANDARD
END:VTIMEZONE
BEGIN:VEVENT
DTSTART;VALUE=DATE:20220109
DTEND;VALUE=DATE:20220110
DTSTAMP:20260422T114522
CREATED:20200218T150944Z
LAST-MODIFIED:20220128T171415Z
UID:2073-1641686400-1641772799@marbleheadhistory.org
SUMMARY:1942: Samuel Snow dies
DESCRIPTION:Samuel Snow II\, the last of Marblehead’s Civil War veterans dies at his home in Marblehead after a brief illness at the age 93. Born in Marblehead 22 January 1848\, son of James Hooper Snow and his wife Hannah A. Breed. Mr. Snow died 9 January 1942\, as reported in The Marblehead Messenger and The New York Times. He left a widow Agnes Josephine Murphy. Samuel Snow joined the Northern Army in 1863 at the age of 15 and served with Company G of the First Massachusetts Artillery. Mr. Snow saw Abraham Lincoln inaugurated for the second time and then served as a member of the guard of honor at the President’s bier. Mr. Snow is buried at Waterside Cemetery. (With thanks to Ernie Christensen for his assistance on this entry\,)
URL:https://marbleheadhistory.org/event/1942-samuel-snow-dies/
CATEGORIES:Historic Event
END:VEVENT
END:VCALENDAR