BEGIN:VCALENDAR
VERSION:2.0
PRODID:-//Marblehead Historical Commission - ECPv6.2.9//NONSGML v1.0//EN
CALSCALE:GREGORIAN
METHOD:PUBLISH
X-ORIGINAL-URL:https://marbleheadhistory.org
X-WR-CALDESC:Events for Marblehead Historical Commission
REFRESH-INTERVAL;VALUE=DURATION:PT1H
X-Robots-Tag:noindex
X-PUBLISHED-TTL:PT1H
BEGIN:VTIMEZONE
TZID:UTC
BEGIN:STANDARD
TZOFFSETFROM:+0000
TZOFFSETTO:+0000
TZNAME:UTC
DTSTART:20220101T000000
END:STANDARD
END:VTIMEZONE
BEGIN:VEVENT
DTSTART;VALUE=DATE:20221213
DTEND;VALUE=DATE:20221214
DTSTAMP:20260419T233819
CREATED:20190218T150935Z
LAST-MODIFIED:20220128T171531Z
UID:2038-1670889600-1670975999@marbleheadhistory.org
SUMMARY:1775: British ships terrify residents
DESCRIPTION:HMS Lively\, HMS Nautilus\, and HMS Hinchinbrook appeared off the coast of Marblehead terrifying residents who expected the ships to level the Town as they had in Falmouth\, Maine. Women and children were evacuated and the men manned Fort Sewall\, even though there war no powder. Pretending their guns were armed and ready the Marbleheaders bluffed the British into retreat. (This entry is based on an article in the Salem Evening News\, 12/20/04 by Jim McAllister.)
URL:https://marbleheadhistory.org/event/1775-british-ships-terrify-residents/
CATEGORIES:Historic Event
END:VEVENT
BEGIN:VEVENT
DTSTART;VALUE=DATE:20221214
DTEND;VALUE=DATE:20221215
DTSTAMP:20260419T233819
CREATED:20190218T150940Z
LAST-MODIFIED:20220128T171518Z
UID:2056-1670976000-1671062399@marbleheadhistory.org
SUMMARY:1877: Abbot Hall dedicated
DESCRIPTION:Formal dedication of Abbot Hall. Designed by Lord & Fuller and built on Training Field Hill. Donated to the Town by Benjamin Abbot\, a cooper\, the structure was the tallest in Town\, 164 feet to the top of the weathervane. During the 1930’s the interior walls were adorned with local-history murals. The bell of Abbot Hall was donated by James J.H. Gregory. And\, “Marblehead Forever” was heard for the first time in public at a Town event.
URL:https://marbleheadhistory.org/event/1877-abbot-hall-dedicated/
CATEGORIES:Historic Event
END:VEVENT
BEGIN:VEVENT
DTSTART;VALUE=DATE:20221222
DTEND;VALUE=DATE:20221223
DTSTAMP:20260419T233819
CREATED:20190218T150928Z
LAST-MODIFIED:20220128T171504Z
UID:2020-1671667200-1671753599@marbleheadhistory.org
SUMMARY:1648: First Board of Selectmen meeting
DESCRIPTION:The first Marbehead Board of Selectmen meeting was held
URL:https://marbleheadhistory.org/event/1648-first-board-of-selectmen-meeting/
CATEGORIES:Historic Event
END:VEVENT
BEGIN:VEVENT
DTSTART;VALUE=DATE:20221222
DTEND;VALUE=DATE:20221223
DTSTAMP:20260419T233819
CREATED:20190218T150935Z
LAST-MODIFIED:20220128T171453Z
UID:2039-1671667200-1671753599@marbleheadhistory.org
SUMMARY:1775: Continental naval fleet organized
DESCRIPTION:A Continental naval fleet was organized\, in Marblehead of course\, for the first time.
URL:https://marbleheadhistory.org/event/1775-continental-naval-fleet-organized/
CATEGORIES:Historic Event
END:VEVENT
BEGIN:VEVENT
DTSTART;VALUE=DATE:20221225
DTEND;VALUE=DATE:20221226
DTSTAMP:20260419T233819
CREATED:20190218T150936Z
LAST-MODIFIED:20220128T171440Z
UID:2043-1671926400-1672012799@marbleheadhistory.org
SUMMARY:1776: Washington crosses the Delaware
DESCRIPTION:At about 10:00 p.m. Washington begins the crossing of the Delaware with his ragtag army of 2000 soldiers and attacks 1200 Hessian mercenaries at Trenton again assisted and rowed by General John Glover and his famous Marblehead Regiment\, saving the army and the revolution for the second time. Afterwards Colonel Glover was promoted to General.
URL:https://marbleheadhistory.org/event/1776-washington-crosses-the-delaware/
CATEGORIES:Historic Event
END:VEVENT
BEGIN:VEVENT
DTSTART;VALUE=DATE:20221225
DTEND;VALUE=DATE:20221226
DTSTAMP:20260419T233819
CREATED:20190218T150940Z
LAST-MODIFIED:20220128T171428Z
UID:2058-1671926400-1672012799@marbleheadhistory.org
SUMMARY:1888: Second Great Fire of Marblehead
DESCRIPTION:The second great fire strikes the Town. The fire started with an explosion around 10 P.M. on Christmas Eve\, destroyed fifty important buildings\, leaving almost 2000 people out of work.
URL:https://marbleheadhistory.org/event/1888-second-great-fire-of-marblehead/
CATEGORIES:Historic Event
END:VEVENT
END:VCALENDAR