BEGIN:VCALENDAR
VERSION:2.0
PRODID:-//Marblehead Historical Commission - ECPv6.2.9//NONSGML v1.0//EN
CALSCALE:GREGORIAN
METHOD:PUBLISH
X-WR-CALNAME:Marblehead Historical Commission
X-ORIGINAL-URL:https://marbleheadhistory.org
X-WR-CALDESC:Events for Marblehead Historical Commission
REFRESH-INTERVAL;VALUE=DURATION:PT1H
X-Robots-Tag:noindex
X-PUBLISHED-TTL:PT1H
BEGIN:VTIMEZONE
TZID:UTC
BEGIN:STANDARD
TZOFFSETFROM:+0000
TZOFFSETTO:+0000
TZNAME:UTC
DTSTART:20220101T000000
END:STANDARD
END:VTIMEZONE
BEGIN:VEVENT
DTSTART;VALUE=DATE:20220702
DTEND;VALUE=DATE:20220703
DTSTAMP:20260419T145741
CREATED:20190218T150928Z
LAST-MODIFIED:20220128T172526Z
UID:2019-1656720000-1656806399@marbleheadhistory.org
SUMMARY:1633: First mention of the name Marblehead
DESCRIPTION:The first mention of the name “Marblehead” in the Colonial records “July 2\, 1633\, James White is ffine xxxs for drunkeness by him comitted att Marblehead\, on the Sabbath day. John Bennet is ffined xs for being drunke at Marblehead. Their true residency\, however\, was not established by the records.
URL:https://marbleheadhistory.org/event/1633-first-mention-of-the-name-marblehead/
CATEGORIES:Historic Event
END:VEVENT
BEGIN:VEVENT
DTSTART;VALUE=DATE:20220704
DTEND;VALUE=DATE:20220705
DTSTAMP:20260419T145741
CREATED:20190218T150943Z
LAST-MODIFIED:20220128T172512Z
UID:2070-1656892800-1656979199@marbleheadhistory.org
SUMMARY:1925: President Coolidge visits
DESCRIPTION:President Coolidge visits Marblehead Harbor aboard the presidential yacht “Mayflower”
URL:https://marbleheadhistory.org/event/1925-president-coolidge-visits/
CATEGORIES:Historic Event
END:VEVENT
BEGIN:VEVENT
DTSTART;VALUE=DATE:20220714
DTEND;VALUE=DATE:20220715
DTSTAMP:20260419T145741
CREATED:20190218T150928Z
LAST-MODIFIED:20220128T172459Z
UID:2022-1657756800-1657843199@marbleheadhistory.org
SUMMARY:1684: Town settles claims to Marblehead land
DESCRIPTION:At a meeting of the commoners and proprietors of Marblehead James Quannapowit laid claim to all lands in Marblehead and argued that the town was giving out land that rightfully belonged to him. A committee composed of Moses Maverick\, John Devereux\, Captain Samuel Ward\, Theodore Riddan\, William Beale\, Thomas Pitman\, Richard Reed\, and Nathaniel Walton plus the Selectmen found in favor of James Quannapowit’s title claim. The committee empowered Ward and Devereux to negotiate “reasonable terms” and to obtain a lawful deed of sale. Developing political problems with the English government over the colony’s charter\, claims of royal land ownership\, Quannapowit’s seemingly clear legal claim\, and memories of the all-too-recent war with King Philip were excellent reasons to enter into a rapid settlement.
URL:https://marbleheadhistory.org/event/1684-town-settles-claims-to-marblehead-land/
CATEGORIES:Historic Event
END:VEVENT
BEGIN:VEVENT
DTSTART;VALUE=DATE:20220717
DTEND;VALUE=DATE:20220718
DTSTAMP:20260419T145741
CREATED:20190218T150932Z
LAST-MODIFIED:20220128T172446Z
UID:2030-1658016000-1658102399@marbleheadhistory.org
SUMMARY:1744: Elbridge Gerry born
DESCRIPTION:Elbridge Gerry born\, third Vice President of the United States under James Madison\, 1812-1814\, signer of the Declaration of Independence.
URL:https://marbleheadhistory.org/event/1744-elbridge-gerry-born/
CATEGORIES:Historic Event
END:VEVENT
BEGIN:VEVENT
DTSTART;VALUE=DATE:20220718
DTEND;VALUE=DATE:20220719
DTSTAMP:20260419T145741
CREATED:20190218T150929Z
LAST-MODIFIED:20220128T172433Z
UID:2023-1658102400-1658188799@marbleheadhistory.org
SUMMARY:1684: Town deed procured
DESCRIPTION:Inhabitants of Marblehead “procured” (for a pittance) a deed of their township from the heirs of Winnepoykin\, who married Ahawayet\, daughter of Poquamum of Nahant. Winepoykin was the third son of Nanepashemet\, and was also known as “No Nose” George. This “procurement” was a hurry-up situation to avoid land issues caused by the British rescinding of the famous Massachusetts Bay Charter.
URL:https://marbleheadhistory.org/event/1684-town-deed-procured/
CATEGORIES:Historic Event
END:VEVENT
BEGIN:VEVENT
DTSTART;VALUE=DATE:20220720
DTEND;VALUE=DATE:20220721
DTSTAMP:20260419T145741
CREATED:20190218T150936Z
LAST-MODIFIED:20220128T172419Z
UID:2041-1658275200-1658361599@marbleheadhistory.org
SUMMARY:1776: Glover's Regiment marches to New York
DESCRIPTION:Reordered and renamed the 14th Continental Regiment\, Glover’s Regiment is ordered to march to New York to join General Sullivan’s Brigade.
URL:https://marbleheadhistory.org/event/1776-glovers-regiment-marches-to-new-york/
CATEGORIES:Historic Event
END:VEVENT
BEGIN:VEVENT
DTSTART;VALUE=DATE:20220720
DTEND;VALUE=DATE:20220721
DTSTAMP:20260419T145741
CREATED:20190218T150942Z
LAST-MODIFIED:20220128T172403Z
UID:2066-1658275200-1658361599@marbleheadhistory.org
SUMMARY:1918: Charles Evans first WWI casualty
DESCRIPTION:Second Lieutenant Charles Herbert Evans\, born in 1887\, was the first Marblehead man to be killed in World War I. He died at the battle of Chateau Thierry in France. By September\, the registration list showed that a total of 1\,346 Marblehead men from the ages of 18 to 45 were in uniform and one Marblehead woman\, Edna Jane “Dolly Dal” Dalrymple.
URL:https://marbleheadhistory.org/event/1918-charles-evans-first-wwi-casualty/
CATEGORIES:Historic Event
END:VEVENT
BEGIN:VEVENT
DTSTART;VALUE=DATE:20220720
DTEND;VALUE=DATE:20220721
DTSTAMP:20260419T145741
CREATED:20190218T150947Z
LAST-MODIFIED:20220128T172343Z
UID:2081-1658275200-1658361599@marbleheadhistory.org
SUMMARY:1997: USS Constitution visits Marblehead
DESCRIPTION:USS Constitution visits Marblehead as the world watches.
URL:https://marbleheadhistory.org/event/1997-uss-constitution-visits-marblehead/
CATEGORIES:Historic Event
END:VEVENT
BEGIN:VEVENT
DTSTART;VALUE=DATE:20220721
DTEND;VALUE=DATE:20220722
DTSTAMP:20260419T145741
CREATED:20190218T150947Z
LAST-MODIFIED:20220128T172330Z
UID:2082-1658361600-1658447999@marbleheadhistory.org
SUMMARY:1997: USS Constitution sails under own power
DESCRIPTION:USS Constitution sails off Marblehead under her own power for the first time in 116 years. The event is featured on all major networks and on the front pages of all major newspapers in the world.
URL:https://marbleheadhistory.org/event/1997-uss-constitution-sails-under-own-power/
CATEGORIES:Historic Event
END:VEVENT
BEGIN:VEVENT
DTSTART;VALUE=DATE:20220729
DTEND;VALUE=DATE:20220730
DTSTAMP:20260419T145741
CREATED:20190218T150944Z
LAST-MODIFIED:20220128T172313Z
UID:2072-1659052800-1659139199@marbleheadhistory.org
SUMMARY:1931: USS Constitution visits Marblehead
DESCRIPTION:USS Constitution visits Marblehead on an unscheduled stop in a national tour. Gloucester agreed to “relinquish” Consitution for two days in honor of the Town’s 1814 protection of the ship from British marauders\, Tenedos and Endymion.
URL:https://marbleheadhistory.org/event/1931-uss-constitution-visits-marblehead/
CATEGORIES:Historic Event
END:VEVENT
END:VCALENDAR