BEGIN:VCALENDAR
VERSION:2.0
PRODID:-//Marblehead Historical Commission - ECPv6.2.9//NONSGML v1.0//EN
CALSCALE:GREGORIAN
METHOD:PUBLISH
X-WR-CALNAME:Marblehead Historical Commission
X-ORIGINAL-URL:https://marbleheadhistory.org
X-WR-CALDESC:Events for Marblehead Historical Commission
REFRESH-INTERVAL;VALUE=DURATION:PT1H
X-Robots-Tag:noindex
X-PUBLISHED-TTL:PT1H
BEGIN:VTIMEZONE
TZID:UTC
BEGIN:STANDARD
TZOFFSETFROM:+0000
TZOFFSETTO:+0000
TZNAME:UTC
DTSTART:20220101T000000
END:STANDARD
END:VTIMEZONE
BEGIN:VEVENT
DTSTART;VALUE=DATE:20220313
DTEND;VALUE=DATE:20220314
DTSTAMP:20260419T145826
CREATED:20190218T150939Z
LAST-MODIFIED:20220128T171139Z
UID:2049-1647129600-1647215999@marbleheadhistory.org
SUMMARY:1830: The Marblehead Register begins
DESCRIPTION:The Marblehead Register\, Marblehead’s first local paper publishes its first edition. Publisher was Mr. Henry Blaney.
URL:https://marbleheadhistory.org/event/1830-the-marblehead-register-begins/
CATEGORIES:Historic Event
END:VEVENT
BEGIN:VEVENT
DTSTART;VALUE=DATE:20220317
DTEND;VALUE=DATE:20220318
DTSTAMP:20260419T145826
CREATED:20190218T150931Z
LAST-MODIFIED:20220128T171125Z
UID:2026-1647475200-1647561599@marbleheadhistory.org
SUMMARY:1728: First Town Meeting
DESCRIPTION:First Town Meeting held in the “new” Town House.
URL:https://marbleheadhistory.org/event/1728-first-town-meeting/
CATEGORIES:Historic Event
END:VEVENT
BEGIN:VEVENT
DTSTART;VALUE=DATE:20220319
DTEND;VALUE=DATE:20220320
DTSTAMP:20260419T145826
CREATED:20190218T150933Z
LAST-MODIFIED:20220128T171112Z
UID:2031-1647648000-1647734399@marbleheadhistory.org
SUMMARY:1751: Fire Department organized
DESCRIPTION:The fire department of Marblehead is first organized\, by a vote accepting the gift of Robert Hooper’s fire engine\, the “Friend\,” and the establishment of a “Board of Firewards.”
URL:https://marbleheadhistory.org/event/1751-fire-department-organized/
CATEGORIES:Historic Event
END:VEVENT
BEGIN:VEVENT
DTSTART;VALUE=DATE:20220331
DTEND;VALUE=DATE:20220401
DTSTAMP:20260419T145826
CREATED:20190218T150931Z
LAST-MODIFIED:20220128T171029Z
UID:2027-1648684800-1648771199@marbleheadhistory.org
SUMMARY:1731: First jail established
DESCRIPTION:Marblehead petitions and wins the right from the General Court to establish a separate jail of its own\, to solve the problem of “many strangers and Seafaring men from other parts of the world coming and residing there who often prove ill-minded\, disorderly person and disturbers of the peace.”
URL:https://marbleheadhistory.org/event/1731-first-jail-established/
CATEGORIES:Historic Event
END:VEVENT
END:VCALENDAR