BEGIN:VCALENDAR
VERSION:2.0
PRODID:-//Marblehead Historical Commission - ECPv6.2.9//NONSGML v1.0//EN
CALSCALE:GREGORIAN
METHOD:PUBLISH
X-WR-CALNAME:Marblehead Historical Commission
X-ORIGINAL-URL:https://marbleheadhistory.org
X-WR-CALDESC:Events for Marblehead Historical Commission
REFRESH-INTERVAL;VALUE=DURATION:PT1H
X-Robots-Tag:noindex
X-PUBLISHED-TTL:PT1H
BEGIN:VTIMEZONE
TZID:UTC
BEGIN:STANDARD
TZOFFSETFROM:+0000
TZOFFSETTO:+0000
TZNAME:UTC
DTSTART:20220101T000000
END:STANDARD
END:VTIMEZONE
BEGIN:VEVENT
DTSTART;VALUE=DATE:20220109
DTEND;VALUE=DATE:20220110
DTSTAMP:20260419T180400
CREATED:20200218T150944Z
LAST-MODIFIED:20220128T171415Z
UID:2073-1641686400-1641772799@marbleheadhistory.org
SUMMARY:1942: Samuel Snow dies
DESCRIPTION:Samuel Snow II\, the last of Marblehead’s Civil War veterans dies at his home in Marblehead after a brief illness at the age 93. Born in Marblehead 22 January 1848\, son of James Hooper Snow and his wife Hannah A. Breed. Mr. Snow died 9 January 1942\, as reported in The Marblehead Messenger and The New York Times. He left a widow Agnes Josephine Murphy. Samuel Snow joined the Northern Army in 1863 at the age of 15 and served with Company G of the First Massachusetts Artillery. Mr. Snow saw Abraham Lincoln inaugurated for the second time and then served as a member of the guard of honor at the President’s bier. Mr. Snow is buried at Waterside Cemetery. (With thanks to Ernie Christensen for his assistance on this entry\,)
URL:https://marbleheadhistory.org/event/1942-samuel-snow-dies/
CATEGORIES:Historic Event
END:VEVENT
BEGIN:VEVENT
DTSTART;VALUE=DATE:20220116
DTEND;VALUE=DATE:20220117
DTSTAMP:20260419T180400
CREATED:20190218T150942Z
LAST-MODIFIED:20220128T171402Z
UID:2064-1642291200-1642377599@marbleheadhistory.org
SUMMARY:1916: 10th Deck Division organized
DESCRIPTION:The 10th Deck Division was organized and mustered into service. consisting of three commissioned officers and 56 men. Headquarters were established at the old High School building on Pleasant Street. The company was federalized on March 29\, 1917 and assigned to duty aboard USS Nebraska.
URL:https://marbleheadhistory.org/event/1916-10th-deck-division-organized/
CATEGORIES:Historic Event
END:VEVENT
BEGIN:VEVENT
DTSTART;VALUE=DATE:20220123
DTEND;VALUE=DATE:20220124
DTSTAMP:20260419T180400
CREATED:20190218T150941Z
LAST-MODIFIED:20220128T171350Z
UID:2060-1642896000-1642982399@marbleheadhistory.org
SUMMARY:1895: Electricity comes to Marblehead
DESCRIPTION:Marblehead was illuminated by electricity for the first time\, “…the light being furnished by 165 arc lamps of two thousand candle power\, and 40 incandescents of twenty five candle power each.” (Roads)
URL:https://marbleheadhistory.org/event/1895-electricity-comes-to-marblehead/
CATEGORIES:Historic Event
END:VEVENT
BEGIN:VEVENT
DTSTART;VALUE=DATE:20220126
DTEND;VALUE=DATE:20220127
DTSTAMP:20260419T180400
CREATED:20190218T150933Z
LAST-MODIFIED:20220128T171337Z
UID:2032-1643155200-1643241599@marbleheadhistory.org
SUMMARY:1774: Cat Island smallpox hospital burned
DESCRIPTION:A band of fearful and angry Marbleheaders burn the smallpox hospital on Cat Island to the ground.
URL:https://marbleheadhistory.org/event/1774-cat-island-smallpox-hospital-burned/
CATEGORIES:Historic Event
END:VEVENT
BEGIN:VEVENT
DTSTART;VALUE=DATE:20220130
DTEND;VALUE=DATE:20220131
DTSTAMP:20260419T180400
CREATED:20190218T150938Z
LAST-MODIFIED:20220128T171324Z
UID:2047-1643500800-1643587199@marbleheadhistory.org
SUMMARY:1797: General Glover dies
DESCRIPTION:General John Glover dies\, age 65\, living his final years as a cordwainer. A statue by the Irish-born sculptor Martin Milmore adorns Commonwealth Avenue Mall in Boston since 1875.
URL:https://marbleheadhistory.org/event/1797-general-glover-dies/
CATEGORIES:Historic Event
END:VEVENT
END:VCALENDAR